BEGIN:VCALENDAR
VERSION:2.0
PRODID:-//Hattoy&#039;s Nursery, Landscaping &amp; Garden Center - ECPv6.15.20//NONSGML v1.0//EN
CALSCALE:GREGORIAN
METHOD:PUBLISH
X-WR-CALNAME:Hattoy&#039;s Nursery, Landscaping &amp; Garden Center
X-ORIGINAL-URL:https://www.hattoys.com
X-WR-CALDESC:Events for Hattoy&#039;s Nursery, Landscaping &amp; Garden Center
REFRESH-INTERVAL;VALUE=DURATION:PT1H
X-Robots-Tag:noindex
X-PUBLISHED-TTL:PT1H
BEGIN:VTIMEZONE
TZID:America/New_York
BEGIN:DAYLIGHT
TZOFFSETFROM:-0500
TZOFFSETTO:-0400
TZNAME:EDT
DTSTART:20250309T070000
END:DAYLIGHT
BEGIN:STANDARD
TZOFFSETFROM:-0400
TZOFFSETTO:-0500
TZNAME:EST
DTSTART:20251102T060000
END:STANDARD
BEGIN:DAYLIGHT
TZOFFSETFROM:-0500
TZOFFSETTO:-0400
TZNAME:EDT
DTSTART:20260308T070000
END:DAYLIGHT
BEGIN:STANDARD
TZOFFSETFROM:-0400
TZOFFSETTO:-0500
TZNAME:EST
DTSTART:20261101T060000
END:STANDARD
BEGIN:DAYLIGHT
TZOFFSETFROM:-0500
TZOFFSETTO:-0400
TZNAME:EDT
DTSTART:20270314T070000
END:DAYLIGHT
BEGIN:STANDARD
TZOFFSETFROM:-0400
TZOFFSETTO:-0500
TZNAME:EST
DTSTART:20271107T060000
END:STANDARD
END:VTIMEZONE
BEGIN:VEVENT
DTSTART;TZID=America/New_York:20260502T090000
DTEND;TZID=America/New_York:20260502T130000
DTSTAMP:20260420T114649
CREATED:20260329T201425Z
LAST-MODIFIED:20260329T201426Z
UID:2290-1777712400-1777726800@www.hattoys.com
SUMMARY:Free Soil Testing
DESCRIPTION:
URL:https://www.hattoys.com/event/free-soil-testing/
ATTACH;FMTTYPE=image/png:https://www.hattoys.com/wp-content/uploads/Screenshot-2026-03-16-084019.png
END:VEVENT
BEGIN:VEVENT
DTSTART;TZID=America/New_York:20260503T090000
DTEND;TZID=America/New_York:20260503T130000
DTSTAMP:20260420T114649
CREATED:20260419T180641Z
LAST-MODIFIED:20260419T180642Z
UID:2378-1777798800-1777813200@www.hattoys.com
SUMMARY:Kimmy's Dirty Pop Soda
DESCRIPTION:Screenshot
URL:https://www.hattoys.com/event/kimmys-dirty-pop-soda/
ATTACH;FMTTYPE=image/jpeg:https://www.hattoys.com/wp-content/uploads/IMG_6535.jpg
END:VEVENT
BEGIN:VEVENT
DTSTART;TZID=America/New_York:20260506T180000
DTEND;TZID=America/New_York:20260506T200000
DTSTAMP:20260420T114649
CREATED:20260329T194321Z
LAST-MODIFIED:20260403T102836Z
UID:2287-1778090400-1778097600@www.hattoys.com
SUMMARY:Spring Planter Class
DESCRIPTION:Come have fun with us at Hattoy’s and decorate your own spring planter!
URL:https://www.hattoys.com/event/spring-planter-class/
ATTACH;FMTTYPE=image/png:https://www.hattoys.com/wp-content/uploads/Fuchsia-and-Dark-Pink-Sip-and-Paint-Party-Invitation-Instagram-Post-3.png
END:VEVENT
BEGIN:VEVENT
DTSTART;TZID=America/New_York:20260509T110000
DTEND;TZID=America/New_York:20260509T170000
DTSTAMP:20260420T114649
CREATED:20260419T180854Z
LAST-MODIFIED:20260419T180855Z
UID:2380-1778324400-1778346000@www.hattoys.com
SUMMARY:Cousins Maine Lobster Truck
DESCRIPTION:
URL:https://www.hattoys.com/event/cousins-maine-lobster-truck/
ATTACH;FMTTYPE=image/png:https://www.hattoys.com/wp-content/uploads/View-recent-photos.png
END:VEVENT
BEGIN:VEVENT
DTSTART;TZID=America/New_York:20260509T120000
DTEND;TZID=America/New_York:20260509T160000
DTSTAMP:20260420T114649
CREATED:20260419T181151Z
LAST-MODIFIED:20260419T181152Z
UID:2382-1778328000-1778342400@www.hattoys.com
SUMMARY:Sippin' Pretty
DESCRIPTION:
URL:https://www.hattoys.com/event/sippin-pretty-2/
ATTACH;FMTTYPE=image/png:https://www.hattoys.com/wp-content/uploads/Screenshot-2026-04-19-at-2.11.08-PM.png
END:VEVENT
BEGIN:VEVENT
DTSTART;TZID=America/New_York:20260510T080000
DTEND;TZID=America/New_York:20260510T120000
DTSTAMP:20260420T114649
CREATED:20260419T181417Z
LAST-MODIFIED:20260419T181418Z
UID:2384-1778400000-1778414400@www.hattoys.com
SUMMARY:Little Latte On A Roll
DESCRIPTION:
URL:https://www.hattoys.com/event/little-latte-on-a-roll/
ATTACH;FMTTYPE=image/png:https://www.hattoys.com/wp-content/uploads/Screenshot-2026-04-19-at-2.13.18-PM.png
END:VEVENT
BEGIN:VEVENT
DTSTART;TZID=America/New_York:20260510T100000
DTEND;TZID=America/New_York:20260510T140000
DTSTAMP:20260420T114649
CREATED:20260419T181744Z
LAST-MODIFIED:20260419T181745Z
UID:2386-1778407200-1778421600@www.hattoys.com
SUMMARY:All Belgium Waffle
DESCRIPTION:
URL:https://www.hattoys.com/event/all-belgium-waffle/
ATTACH;FMTTYPE=image/png:https://www.hattoys.com/wp-content/uploads/Screenshot-2026-04-19-at-2.16.21-PM.png
END:VEVENT
BEGIN:VEVENT
DTSTART;TZID=America/New_York:20260510T120000
DTEND;TZID=America/New_York:20260510T160000
DTSTAMP:20260420T114649
CREATED:20260419T181848Z
LAST-MODIFIED:20260419T181849Z
UID:2388-1778414400-1778428800@www.hattoys.com
SUMMARY:Sippin' Pretty
DESCRIPTION:
URL:https://www.hattoys.com/event/sippin-pretty-3/
ATTACH;FMTTYPE=image/png:https://www.hattoys.com/wp-content/uploads/Screenshot-2026-04-19-at-2.11.08-PM.png
END:VEVENT
BEGIN:VEVENT
DTSTART;TZID=America/New_York:20260516T110000
DTEND;TZID=America/New_York:20260516T140000
DTSTAMP:20260420T114649
CREATED:20260419T190547Z
LAST-MODIFIED:20260419T190548Z
UID:2390-1778929200-1778940000@www.hattoys.com
SUMMARY:Iggy's
DESCRIPTION:
URL:https://www.hattoys.com/event/iggys/
ATTACH;FMTTYPE=image/jpeg:https://www.hattoys.com/wp-content/uploads/158D484D-C37F-4320-9315-E8C0147394FE.jpg
END:VEVENT
BEGIN:VEVENT
DTSTART;TZID=America/New_York:20260517T000000
DTEND;TZID=America/New_York:20260517T235959
DTSTAMP:20260420T114649
CREATED:20260419T190829Z
LAST-MODIFIED:20260419T190830Z
UID:2392-1778976000-1779062399@www.hattoys.com
SUMMARY:Casa Tia Rosa
DESCRIPTION:
URL:https://www.hattoys.com/event/casa-tia-rosa/
ATTACH;FMTTYPE=image/png:https://www.hattoys.com/wp-content/uploads/301879504_604247901262497_7647998873826349563_n.png
END:VEVENT
BEGIN:VEVENT
DTSTART;TZID=America/New_York:20260523T080000
DTEND;TZID=America/New_York:20260523T140000
DTSTAMP:20260420T114649
CREATED:20260419T190949Z
LAST-MODIFIED:20260419T190950Z
UID:2393-1779523200-1779544800@www.hattoys.com
SUMMARY:Little Latte On A Roll
DESCRIPTION:
URL:https://www.hattoys.com/event/little-latte-on-a-roll-2/
ATTACH;FMTTYPE=image/png:https://www.hattoys.com/wp-content/uploads/Screenshot-2026-04-19-at-2.13.18-PM.png
END:VEVENT
BEGIN:VEVENT
DTSTART;TZID=America/New_York:20260524T000000
DTEND;TZID=America/New_York:20260524T235959
DTSTAMP:20260420T114649
CREATED:20260419T191332Z
LAST-MODIFIED:20260419T191333Z
UID:2394-1779580800-1779667199@www.hattoys.com
SUMMARY:Casa Tia Rosa
DESCRIPTION:
URL:https://www.hattoys.com/event/casa-tia-rosa-2/
ATTACH;FMTTYPE=image/png:https://www.hattoys.com/wp-content/uploads/301879504_604247901262497_7647998873826349563_n.png
END:VEVENT
BEGIN:VEVENT
DTSTART;TZID=America/New_York:20260530T100000
DTEND;TZID=America/New_York:20260530T140000
DTSTAMP:20260420T114649
CREATED:20260419T191419Z
LAST-MODIFIED:20260419T191421Z
UID:2395-1780135200-1780149600@www.hattoys.com
SUMMARY:All Belgium Waffle
DESCRIPTION:
URL:https://www.hattoys.com/event/all-belgium-waffle-2/
ATTACH;FMTTYPE=image/png:https://www.hattoys.com/wp-content/uploads/Screenshot-2026-04-19-at-2.16.21-PM.png
END:VEVENT
BEGIN:VEVENT
DTSTART;TZID=America/New_York:20260613T000000
DTEND;TZID=America/New_York:20260613T235959
DTSTAMP:20260420T114649
CREATED:20260419T191620Z
LAST-MODIFIED:20260419T191621Z
UID:2396-1781308800-1781395199@www.hattoys.com
SUMMARY:Hattoy's 40th Anniversary Weekend Celebration- Big Red's BBQ
DESCRIPTION:
URL:https://www.hattoys.com/event/hattoys-40th-anniversary-weekend-celebration-big-reds-bbq/
ATTACH;FMTTYPE=image/png:https://www.hattoys.com/wp-content/uploads/Screenshot-2026-03-23-at-5.47.28-PM.png
END:VEVENT
BEGIN:VEVENT
DTSTART;TZID=America/New_York:20260614T000000
DTEND;TZID=America/New_York:20260614T235959
DTSTAMP:20260420T114649
CREATED:20260419T191731Z
LAST-MODIFIED:20260419T191732Z
UID:2397-1781395200-1781481599@www.hattoys.com
SUMMARY:Hattoy's 40th Anniversary Weekend Celebration- Iggy's
DESCRIPTION:
URL:https://www.hattoys.com/event/hattoys-40th-anniversary-weekend-celebration-iggys/
ATTACH;FMTTYPE=image/jpeg:https://www.hattoys.com/wp-content/uploads/158D484D-C37F-4320-9315-E8C0147394FE.jpg
END:VEVENT
BEGIN:VEVENT
DTSTART;TZID=America/New_York:20260627T123000
DTEND;TZID=America/New_York:20260627T140000
DTSTAMP:20260420T114649
CREATED:20260419T192211Z
LAST-MODIFIED:20260419T192212Z
UID:2398-1782563400-1782568800@www.hattoys.com
SUMMARY:Georgia Peach Truck
DESCRIPTION:https://georgiapeachtruck.com/product-category/hattoys-nursery-garden-center
URL:https://www.hattoys.com/event/georgia-peach-truck/
ATTACH;FMTTYPE=image/png:https://www.hattoys.com/wp-content/uploads/Hattoys-Nursery-and-Garden-Center-Flyer.png
END:VEVENT
BEGIN:VEVENT
DTSTART;TZID=America/New_York:20260722T123000
DTEND;TZID=America/New_York:20260722T140000
DTSTAMP:20260420T114649
CREATED:20260419T192308Z
LAST-MODIFIED:20260419T192308Z
UID:2400-1784723400-1784728800@www.hattoys.com
SUMMARY:Georgia Peach Truck
DESCRIPTION:
URL:https://www.hattoys.com/event/georgia-peach-truck-2/
ATTACH;FMTTYPE=image/png:https://www.hattoys.com/wp-content/uploads/Hattoys-Nursery-and-Garden-Center-Flyer.png
END:VEVENT
END:VCALENDAR